Workbook

Sheet 調査コード&校名
A1: 110020 | B1: 野田鎌田学園杉並高等専修学校 | C1: =A1&" "&B1 -> 110020 野田鎌田学園杉並高等専修学校 | D1: 10 | E1: 工業関係 | F1: =D1&" "&E1 -> 10 工業関係
A2: 110024 | B2: 東京デザインテクノロジーセンター専門学校 | C2: =A2&" "&B2 -> 110024 東京デザインテクノロジーセンター専門学校 | D2: 30 | E2: 医療関係 | F2: =D2&" "&E2 -> 30 医療関係
A3: 134001 | B3: 下谷医師会立看護高等専修学校 | C3: =A3&" "&B3 -> 134001 下谷医師会立看護高等専修学校 | D3: 41 | E3: 衛生関係（栄養、調理） | F3: =D3&" "&E3 -> 41 衛生関係（栄養、調理）
A4: 134009 | B4: 一般社団法人東京精神科病院協会府中看護高等専修学校 | C4: =A4&" "&B4 -> 134009 一般社団法人東京精神科病院協会府中看護高等専修学校 | D4: 42 | E4: 衛生関係（製菓） | F4: =D4&" "&E4 -> 42 衛生関係（製菓）
A5: 134015 | B5: 葛飾区医師会附属看護専門学校 | C5: =A5&" "&B5 -> 134015 葛飾区医師会附属看護専門学校 | D5: 43 | E5: 衛生関係（理容、美容） | F5: =D5&" "&E5 -> 43 衛生関係（理容、美容）
A6: 134023 | B6: 世田谷中央看護高等専修学校 | C6: =A6&" "&B6 -> 134023 世田谷中央看護高等専修学校 | D6: 60 | E6: 商業実務関係 | F6: =D6&" "&E6 -> 60 商業実務関係
A7: 134024 | B7: 世田谷区医師会立看護高等専修学校 | C7: =A7&" "&B7 -> 134024 世田谷区医師会立看護高等専修学校 | D7: 70 | E7: 服飾・家政関係 | F7: =D7&" "&E7 -> 70 服飾・家政関係
A8: 141004 | B8: 東京マスダ学院調理師専門学校 | C8: =A8&" "&B8 -> 141004 東京マスダ学院調理師専門学校 | D8: 80 | E8: 文化・教養関係 | F8: =D8&" "&E8 -> 80 文化・教養関係
A9: 141007 | B9: 東京誠心調理師専門学校 | C9: =A9&" "&B9 -> 141007 東京誠心調理師専門学校
A10: 141017 | B10: 東京製菓学校 | C10: =A10&" "&B10 -> 141017 東京製菓学校
A11: 141024 | B11: 国際製菓専門学校 | C11: =A11&" "&B11 -> 141024 国際製菓専門学校
A12: 141025 | B12: 西東京調理師専門学校 | C12: =A12&" "&B12 -> 141025 西東京調理師専門学校
A13: 141028 | B13: 町田調理師専門学校 | C13: =A13&" "&B13 -> 141028 町田調理師専門学校
A14: 141029 | B14: 東京多摩調理製菓専門学校 | C14: =A14&" "&B14 -> 141029 東京多摩調理製菓専門学校
A15: 141038 | B15: 織田学園中野高等専修学校 | C15: =A15&" "&B15 -> 141038 織田学園中野高等専修学校
A16: 142005 | B16: 東京文化美容専門学校 | C16: =A16&" "&B16 -> 142005 東京文化美容専門学校
A17: 142026 | B17: 町田美容専門学校 | C17: =A17&" "&B17 -> 142026 町田美容専門学校
A18: 142032 | B18: 国際共立学園高等専修学校 | C18: =A18&" "&B18 -> 142032 国際共立学園高等専修学校
A19: 160022 | B19: 専門学校東京ＣＰＡ会計学院 | C19: =A19&" "&B19 -> 160022 専門学校東京ＣＰＡ会計学院
A20: 170007 | B20: 東京マスダ学院文化服装専門学校 | C20: =A20&" "&B20 -> 170007 東京マスダ学院文化服装専門学校
... A33: 185013 | B33: 東京フード製菓中医薬専門学校 | C33: =A33&" "&B33 -> 185013 東京フード製菓中医薬専門学校

Sheet 1 在籍_高等課程
A1: 令和７年度 「高等課程」 在籍調査 | AA1: 1B-1
A4: *令和7年5月1日現在の数値・状況をご記入ください。
A5: *お手数ですが7月30日（水）までに公益社団法人東京都専修学校各種学校協会までご返送ください。
A7: 調査コードおよび学校名
A9: 記入者氏名 | O9: 所属部課名
A10: 連絡先電話番号 | O10: E.mail
A11: （ご記入いただいた情報は、本調査関連の問い合わせ以外には使用しません）
A13: 1 | B13: 本調査は下記の番号区分（分野）で行っています。該当する番号を１つ選んでください。
A14: ＊複数分野をお持ちの学校は、恐縮ですが本用紙をコピーして下記番号区分ごとにご記入いただけますよう、お願いいたします。
B16: 10 | C16: 工業関係 | R16: 回答欄 該当分野
B17: 30 | C17: 医療関係
B18: 41 | C18: 衛生関係（栄養、調理）
B19: 42 | C19: 衛生関係（製菓）
B20: 43 | C20: 衛生関係（理容、美容）
B21: 60 | C21: 商業実務関係
B22: 70 | C22: 服飾・家政関係
B23: 80 | C23: 文化・教養関係
A26: 2 | B26: この分野に該当する貴校の在籍者数、入学者数等の人数を男女別にご記入ください。（留学生も含みます）
N28: 男子 | Q28: 女子
C29: 令和7年度 在籍者数（休学者含む）5/1現在
C30: 令和7年度 入学志願者数
C31: 令和7年度 入学手続き後の入学辞退者数
C32: 令和7年度 入学者数 （入学辞退者は含まない）
C33: 令和6年度中における中途退学者数
B35: 入学者数（途中年次への編入者を除く）の内訳を修業年限別にご記入ください。
B36: ※在籍者数ではございません。ご注意ください。
F37: １年制 | I37: 1.5年制 | L37: ２年制 | O37: ３年制 | R37: その他( ) | V37: 合計
B38: 昼間部 | D38: 男子 | V38: =SUM(F38:T38) -> 0
D39: 女子 | V39: =SUM(F39:T39) -> 0
B40: 夜間部 | D40: 男子 | V40: =SUM(F40:T40) -> 0
D41: 女子 | V41: =SUM(F41:T41) -> 0
A43: 3 | B43: 令和7年4月入学者※の、最終学歴別人数をご記入ください。（※途中年次への編入者を除く。以下同じ）
B44: ※在籍者数ではございません。ご注意ください。
B45: 区分 | G45: 中学校 | K45: 高等学校 | Q45: 高卒 認定 | S45: 在外教育機関卒（日本人） | U45: 外国人留学生 | W45: その他 | Z45: 合計
G46: 新卒 | I46: いったん 就職 | K46: 新卒 | M46: 既卒 | O46: 中退
B47: 昼間部 | E47: 男子 | Z47: =SUM(G47:X47) -> 0
E48: 女子 | Z48: =SUM(G48:X48) -> 0
B49: 夜間部 | E49: 男子 | Z49: =SUM(G49:X49) -> 0
E50: 女子 | Z50: =SUM(G50:X50) -> 0
A52: 4 | B52: 令和7年4月に貴校へ編入した生徒数を、ご記入ください。
...

Sheet 2 納付金_高等
A1: 令和７年度 「高等課程」 学生納付金調査 | AA1: 2B
A4: *令和7年4月入学生の、1年次の金額（年額）をご記入ください。
A5: *お手数ですが7月30日（水）までに公益社団法人東京都専修学校各種学校協会までご返送ください。
A7: 調査コードおよび学校名 | G7: ='1 在籍_高等課程'!$G$7 -> 0
A9: 記入者氏名 | E9: ='1 在籍_高等課程'!$E$9 -> 0 | O9: 所属部課名 | R9: ='1 在籍_高等課程'!$R$9 -> 0
A10: 連絡先電話番号 | E10: ='1 在籍_高等課程'!$E$10 -> 0 | O10: E.mail | R10: ='1 在籍_高等課程'!$R$10 -> 0
A11: （ご記入いただいた情報は、本調査関連の問い合わせ以外には使用しません）
A14: 1 | B14: 本調査は下記の番号区分（分野）で行っています。該当する番号を全て選んでください。(□を✔してください）
B15: ＊複数分野をお持ちの学校は、恐縮ですが本用紙をコピーして下記番号区分ごとにご記入いただけますよう、お願いいたします。
A16: ='1 在籍_高等課程'!$A$16 -> 0 | B16: 10 | C16: 工業関係 | P16: ='1 在籍_高等課程'!P20 -> 0 | Q16: 43 | R16: 衛生関係（理容、美容）
A17: ='1 在籍_高等課程'!$A$17 -> 0 | B17: 30 | C17: 医療関係 | P17: ='1 在籍_高等課程'!P21 -> 0 | Q17: 60 | R17: 商業実務関係
A18: ='1 在籍_高等課程'!$A$18 -> 0 | B18: 41 | C18: 衛生関係（栄養、調理） | P18: ='1 在籍_高等課程'!P22 -> 0 | Q18: 70 | R18: 服飾・家政関係
A19: ='1 在籍_高等課程'!$A$19 -> 0 | B19: 42 | C19: 衛生関係（製菓） | P19: ='1 在籍_高等課程'!P23 -> 0 | Q19: 80 | R19: 文化・教養関係
A23: 2 | B23: 令和7年4月入学生、1年次の納付金額（年額）
C25: 上記10～80の番号区分（分野）をご記入ください。単位：円
A26: 昼夜 | B26: 番号 | C26: 学科名 | J26: 修業 年限 | K26: 入学金 | N26: 授業料 | Q26: 実習費 | T26: 施設設備費 | W26: その他 | Z26: 合計
A27: 昼間部 | Z27: =SUM(K27:Y27) -> 0
Z28: =SUM(K28:Y28) -> 0
Z29: =SUM(K29:Y29) -> 0
Z30: =SUM(K30:Y30) -> 0
Z31: =SUM(K31:Y31) -> 0
Z32: =SUM(K32:Y32) -> 0
Z33: =SUM(K33:Y33) -> 0
Z34: =SUM(K34:Y34) -> 0
Z35: =SUM(K35:Y35) -> 0
Z36: =SUM(K36:Y36) -> 0
Z37: =SUM(K37:Y37) -> 0
Z38: =SUM(K38:Y38) -> 0
Z39: =SUM(K39:Y39) -> 0
A40: 夜間部 | Z40: =SUM(K40:Y40) -> 0
Z41: =SUM(K41:Y41) -> 0
Z42: =SUM(K42:Y42) -> 0
Z43: =SUM(K43:Y43) -> 0
Z44: =SUM(K44:Y44) -> 0
B48: ●ご協力ありがとうございました。お手数ですが7月30日（水）までにご返送ください。
B49: 公益社団法人 東京都専修学校各種学校協会

Sheet 4 財務調査_高等
A1: 令和７年度決算 専修学校財務状況調査（新基準版） | Z1: 4Ｂ
A4: *お手数ですが7月30日（水）までに公益社団法人東京都専修学校各種学校協会までご返送ください。
A7: 調査コードおよび学校名 | G7: ='1 在籍_高等課程'!$G$7 -> 0
A9: 記入者氏名 | E9: ='1 在籍_高等課程'!$E$9 -> 0 | O9: 所属部課名 | R9: ='1 在籍_高等課程'!$R$9 -> 0
A10: 連絡先電話番号 | E10: ='1 在籍_高等課程'!$E$10 -> 0 | O10: E.mail | R10: ='1 在籍_高等課程'!$R$10 -> 0
A11: （ご記入いただいた情報は、本調査関連の問い合わせ以外には使用しません）
A12: ＊千円未満は四捨五入してください。従って合計で出る若干の誤差は差し支えありません。
A14: 「第１表」学校別資金収支計算書（令和６年度決算）
B16: 収入の部 | P16: 支出の部
B17: 科 目 | J17: 決算額（千円） | P17: 科 目 | X17: 決算額（千円）
B18: 学生生徒等納付金収入 | M18: 千円 | P18: 人件費支出 | AA18: 千円
B19: 内 訳 | C19: 授業料収入 | J19: （ | M19: 千円） | P19: 教育研究経費支出 | AA19: 千円
C20: 入学金収入 | J20: （ | M20: 千円） | P20: 管理経費支出 | AA20: 千円
C21: そ の 他 | J21: （ | M21: 千円） | P21: 借入金等利息支出 | AA21: 千円
B22: 手数料収入 | M22: 千円 | P22: 借入金等返済支出 | AA22: 千円
B23: 寄付金収入 | M23: 千円 | P23: 施設関係支出 | AA23: 千円
B24: 補助金収入 | M24: 千円 | P24: 設備関係支出 | AA24: 千円
B25: 資産売却収入 | M25: 千円 | P25: 資産運用支出 | AA25: 千円
B26: 付随事業・収益事業収入 | M26: 千円 | P26: その他支出 | AA26: 千円
B27: 受取利息・配当金収入 | M27: 千円 | P27: 予備費 | AA27: 千円
B28: 雑収入 | M28: 千円 | P28: 資金支出調整勘定 | AA28: 千円
B29: 借入金等収入 | M29: 千円 | P29: 翌年度繰越支払資金 | AA29: 千円
B30: 前受金収入 | M30: 千円 | P30: 支出の部 合計 | AA30: 千円
B31: その他の収入 | M31: 千円
B32: 資金収入調整勘定 | M32: 千円 | P32: 金額は千円単位でご記入ください。 （千円未満四捨五入）
B33: 前年度繰越支払資金 | M33: 千円
B34: 収入の部 合計 | M34: 千円
A36: 「第２表」学校別事業活動収支計算書（令和６年度決算）
A37: 教育活動収支 | P37: 教育活動外収支
A38: 収入 | B38: 科 目 | J38: 決算額（千円） | P38: 科 目 | X38: 決算額（千円）
B39: 学生生徒等納付金 | M39: 千円 | P39: 教育活動外収入 | AA39: 千円
B40: 内 訳 | C40: 授業料 | J40: （ | M40: 千円） | P40: 教育活動外支出 | AA40: 千円
C41: 入学金 | J41: （ | M41: 千円） | P41: 教育活動外収支差額 | AA41: 千円
C42: その他 | J42: （ | M42: 千円） | P42: 経常収支差額 | AA42: 千円
B43: 手数料 | M43: 千円
B44: 寄付金 | M44: 千円 | P44: 特別収支
B45: 経常費等補助金 | M45: 千円 | P45: 特別収入 | AA45: 千円
B46: 付随事業収入 | M46: 千円 | P46: 特別支出 | AA46: 千円
B47: 雑収入 | M47: 千円 | P47: 特別収支差額 | AA47: 千円
B48: 教育活動収入 計 | M48: 千円 | P48: 基本金組入前当年度収支差額 | AA48: 千円
...

Sheet 5情報公開_高等
A1: 令和７年度 情報公開・自己点検自己評価・学校関係者評価の実施に関する調査(共通） | AA1: 5B-1
A4: *令和7年5月1日現在の数値・状況をご記入ください。
A5: *お手数ですが7月30日（水）までに公益社団法人東京都専修学校各種学校協会までご返送ください。
A7: 調査コードおよび学校名 | G7: ='1 在籍_高等課程'!$G$7 -> 0
A9: 記入者氏名 | E9: ='1 在籍_高等課程'!$E$9 -> 0 | O9: 所属部課名 | R9: ='1 在籍_高等課程'!$R$9 -> 0
A10: 連絡先電話番号 | E10: ='1 在籍_高等課程'!$E$10 -> 0 | O10: E.mail | R10: ='1 在籍_高等課程'!$R$10 -> 0
A11: （ご記入いただいた情報は、本調査関連の問い合わせ以外には使用しません）
A12: ■ | B12: 本調査は下記分野区分で行っています。該当する分野を１つ選んでください。
A13: ※本調査のみ1校1回答でお願いします。
B15: 10 | C15: 工業関係 | R15: 回答欄 該当分野
B16: 30 | C16: 医療関係
B17: 41 | C17: 衛生関係（栄養、調理）
B18: 42 | C18: 衛生関係（製菓）
B19: 43 | C19: 衛生関係（理容、美容）
B20: 60 | C20: 商業実務関係
B21: 70 | C21: 服飾・家政関係
B22: 80 | C22: 文化・教養関係
A24: 1 | B24: ［情報公開について］
B25: １．現在の情報公開について下記について該当するものにチェックをつけてください。
B26: □をクリックするとチェック✔が入ります。
B27: （１）情報公開を行っていますか。
D28: 行っている | H28: →（２）以降にお答えください。
D29: 行っていない（これから行う予定も含む）
B31: （２）情報公開の公開範囲について当てはまるものにチェックをしてください。
D32: 限定せず | K32: 学校関係者（保護者、卒業者、生徒を含む）のみ
D33: その他(具体的に： ）
B35: （３）情報公開の方法について該当するものにチェックしてください。（複数回答可）
D36: 『専門学校／高等専修学校における情報提供等への取組に関するガイドライン』 （H25.3 文部科学省）に沿って実施
E37: ＊参考「専修学校における学校評価ガイドライン」https://www.mext.go.jp/a_menu/shougai/senshuu/1332632.htm
D38: 各種書類を閲覧用に１冊のファイルにまとめて閲覧
D39: 情報開示専用の印刷冊子
D40: 学校発行の広報誌・メールマガジンなど
D41: ホームページ
D42: その他(具体的に： ）
B44: （４）情報公開方法について該当するものにチェックをつけてください。(複数回答可）
D45: 公開している情報に変更が生じた都度更新
D46: 定期的に更新（ カ月に一度)
D47: ほとんど更新していない。
B49: ２. 令和6年度中に、情報公開関連書類の閲覧希望者の有無について教えてください。
D50: 閲覧希望者あり | L50: 閲覧希望者なし | U50: 把握していない
...

Sheet 7 企業内実習_高等
A1: 令和７年度 企業内実習に関する調査 | AA1: 7B
A4: ＊お手数ですが7月30日（水）までに公益社団法人東京都専修学校各種学校協会までご返送ください。
A6: 調査コードおよび学校名 | G6: ='1 在籍_高等課程'!$G$7 -> 0
A8: 記入者氏名 | E8: ='1 在籍_高等課程'!$E$9 -> 0 | O8: 所属部課名 | R8: ='1 在籍_高等課程'!$R$9 -> 0
A9: 連絡先電話番号 | E9: ='1 在籍_高等課程'!$E$10 -> 0 | O9: E.mail | R9: ='1 在籍_高等課程'!$R$10 -> 0
A10: （ご記入いただいた情報は、本調査関連の問い合わせ以外には使用しません）
A12: ■ | B12: 本調査は下記11～91の番号区分（分野）で行っています。該当する番号を１つ選んでください。
A13: ＊複数分野をお持ちの学校は、恐縮ですが本用紙をコピーして下記番号区分ごとにご記入いただけますよう、お願いいたします。
A14: ＊分野毎に集計を行っておりますので、選択分野は選択できません。
B16: 10 | C16: 工業関係 | R16: 回答欄 該当分野
B17: 30 | C17: 医療関係
B18: 41 | C18: 衛生関係（栄養、調理）
B19: 42 | C19: 衛生関係（製菓）
B20: 43 | C20: 衛生関係（理容、美容）
B21: 60 | C21: 商業実務関係
B22: 70 | C22: 服飾・家政関係
B23: 80 | C23: 文化・教養関係
B25: ＊企業内実習とは、学生が企業・施設に出向いて、実務実習を行うことを指します。
B27: 1 | C27: 貴校では企業内実習を実施していますか。
D29: 実施している | H29: → | I29: 2 | J29: 以降の質問に回答ください。 | U29: 実施していない
B32: 2 | C32: 企業内実習は、何年次で実施していますか（複数回答可）。
D34: １年次 | K34: ２年次 | R34: ３年次 | Y34: ４年次
B36: 3 | C36: 各学年ごとの総授業時数と、各学年ごとの実習の時間数についてご記入ください。
F38: 1年制学科 | L38: 2年制学科 | R38: 3年制学科 | X38: 4年制学科
F39: 総授業 時間数 | I39: 企業内実習 時間数 | L39: 総授業 時間数 | O39: 企業内実習 時間数 | R39: 総授業 時間数 | U39: 企業内実習 時間数 | X39: 総授業 時間数 | AA39: 企業内実習 時間数
C40: 1年次 | F40: 時間 | I40: 時間 | L40: 時間 | O40: 時間 | R40: 時間 | U40: 時間 | X40: 時間 | AA40: 時間
C41: 2年次 | L41: 時間 | O41: 時間 | R41: 時間 | U41: 時間 | X41: 時間 | AA41: 時間
C42: 3年次 | R42: 時間 | U42: 時間 | X42: 時間 | AA42: 時間
C43: 4年次 | X43: 時間 | AA43: 時間
C44: 合 計 | F44: 時間 | I44: 時間 | L44: 時間 | O44: 時間 | R44: 時間 | U44: 時間 | X44: 時間 | AA44: 時間
B46: 4 | C46: 企業内実習の方法及び工夫等についてご記入ください。
A55: ●ご協力ありがとうございました
