Workbook

Sheet 各校　調査コード
A1: 調査コード | B1: 学校名 | C1: 調査コード＆学校名
A2: 110001 | B2: 音響芸術専門学校 | C2: =A2&" "&B2 -> 110001 音響芸術専門学校
A3: 110002 | B3: 読売理工医療福祉専門学校 | C3: =A3&" "&B3 -> 110002 読売理工医療福祉専門学校
A4: 110004 | B4: 日本プリンティングアカデミー | C4: =A4&" "&B4 -> 110004 日本プリンティングアカデミー
A5: 110005 | B5: 中央工学校 | C5: =A5&" "&B5 -> 110005 中央工学校
A6: 110006 | B6: 専門学校東京自動車大学校 | C6: =A6&" "&B6 -> 110006 専門学校東京自動車大学校
A7: 110007 | B7: 専門学校読売自動車大学校 | C7: =A7&" "&B7 -> 110007 専門学校読売自動車大学校
A8: 110008 | B8: 専門学校東京工科自動車大学校品川校 | C8: =A8&" "&B8 -> 110008 専門学校東京工科自動車大学校品川校
A9: 110009 | B9: 日本工学院専門学校 | C9: =A9&" "&B9 -> 110009 日本工学院専門学校
A10: 110011 | B10: 青山製図専門学校 | C10: =A10&" "&B10 -> 110011 青山製図専門学校
A11: 110012 | B11: 東放学園音響専門学校 | C11: =A11&" "&B11 -> 110012 東放学園音響専門学校
A12: 110013 | B12: 専門学校東京工科自動車大学校世田谷校 | C12: =A12&" "&B12 -> 110013 専門学校東京工科自動車大学校世田谷校
A13: 110019 | B13: 専門学校東京工科自動車大学校 | C13: =A13&" "&B13 -> 110019 専門学校東京工科自動車大学校
... A328: 186017 | B328: 専修学校中央ゼミナール | C328: =A328&" "&B328 -> 186017 専修学校中央ゼミナール
C329: =A329&" "&B329
A330: 11 | B330: 工業
A331: 12 | B331: 工業
A332: 13 | B332: 工業
A333: 14 | B333: 工業
A334: 15 | B334: 工業
A335: 16 | B335: 工業
A336: 20 | B336: 工業・農業
A337: 31 | B337: 医療
A338: 32 | B338: 医療
A339: 33 | B339: 医療
A340: 34 | B340: 医療
A341: 35 | B341: 医療
... A366: 91 | B366: 文化・教養
C367: =A367&" "&B367
A368: 修業年限 | B368: 1
A369: 修業年限 | B369: 1.5
A370: 修業年限 | B370: 2
A371: 修業年限 | B371: 3
A372: 修業年限 | B372: 4
A374: 問1
A375: ① ４月以前
A376: ② ５月
A377: ③ ６月
A378: ④ ７月
A379: ⑤ ８月
...

Sheet R8調査票①
A1: 令和8年度 「専門課程」就職状況内定調査票① | X1: ◇青いセル＝入力箇所、黄色いセル＝入力不要箇所
A3: 1 調査コード及び校名 | X3: ◇ご記入いただいた情報は、本調査関連の問い合わせ以外には使用しません。
A5: 2 所属部署 | N5: 3 担当者氏名 | X5: ◇貴校の就職希望者の令和８年10月末日現在の就職内定状況について、以下の表内に実数をご記入ください。
A7: 4 ﾒｰﾙｱﾄﾞﾚｽ | X7: ◇複数の分野にわたる学科を設置されている場合は分野別に、また、修業年限が異なる場合は修業年限別に分かる範囲でご入力ください。
A9: 11 | B9: 工業 | E9: 土木、建築、測量 | M9: 51 | N9: 教育・社会福祉 | R9: 保育、教育
A10: 12 | B10: 工業 | E10: 自動車整備 | M10: 52 | N10: 教育・社会福祉 | R10: 介護福祉
A11: 13 | B11: 工業 | E11: 情報処理・ＩＴ | M11: 53 | N11: 教育・社会福祉 | R11: 社会福祉
A12: 14 | B12: 工業 | E12: 電気・電子、機械 | M12: 54 | N12: 教育・社会福祉 | R12: その他
A13: 15 | B13: 工業 | E13: ゲーム・CG | M13: 61 | N13: 商業実務 | R13: 簿記・ビジネス・ＩＴ
A14: 16 | B14: 工業 | E14: その他 | M14: 62 | N14: 商業実務 | R14: 旅行・ﾎﾃﾙ・観光・ブライダル | X14: ※1
A15: 20 | B15: 工業・農業 | E15: バイオテクノロジー、その他 | M15: 63 | N15: 商業実務 | R15: 医療秘書、医療管理事務 | X15: ◇「ウェディング/ブライダル」系学科を設置する学校でヘアメイクがカリキュラムの中心となる場合は
A16: 31 | B16: 医療 | E16: 看護 | M16: 64 | N16: 商業実務 | R16: その他 | X16: 【44 衛生関係 エステ・メイク・ネイル】を選択
A17: 32 | B17: 医療 | E17: 臨床検査、診療放射線、臨床工学 | M17: 70 | N17: 服飾・家政
A18: 33 | B18: 医療 | E18: 理学療法、作業療法 | M18: 81 | N18: 文化・教養 | R18: 語学 | X18: ◇上記設置校でウェディングプランナー養成がカリキュラムの中心となる場合は
A19: 34 | B19: 医療 | E19: 柔道整復 | M19: 82 | N19: 文化・教養 | R19: 美術、デザイン、写真 | X19: 【62 商業実務関係 旅行・ホテル・観光・ブライダル】を選択
A20: 35 | B20: 医療 | E20: はり・きゅう・あん摩マッサージ 指圧 | M20: 83 | N20: 文化・教養 | R20: 音楽、演劇、映像、放送
A21: 36 | B21: 医療 | E21: 歯科技工、歯科衛生 | M21: 84 | N21: 文化・教養 | R21: 法律行政 | X21: ウェディング／ブライダル系学科については、【89文化・教養 その他】を選択する事例が見受けられますが、
A22: 37 | B22: 医療 | E22: その他 | M22: 85 | N22: 文化・教養 | R22: スポーツ | X22: 実態に即した集計を行うため、学科の教育内容・カリキュラムの中心に応じて、上記の分野コード（44または62）を選択してください。
A23: 41 | B23: 衛生 | E23: 栄養、調理 | M23: 86 | N23: 文化・教養 | R23: 動物
A24: 42 | B24: 衛生 | E24: 製菓 | M24: 88 | N24: 文化・教養 | R24: アニメ、声優、ゲーム
A25: 43 | B25: 衛生 | E25: 理容、美容 | M25: 89 | N25: 文化・教養 | R25: その他
A26: 44 | B26: 衛生 | E26: エステ・メイク・ネイル ※1 | M26: 91 | N26: 文化・教養 | R26: 日本語科
A27: 45 | B27: 衛生 | E27: その他
E28: ドロップダウンリストより選択
A29: 分野コード | D29: 修業年限（年制） | F29: 就職希望者（数） | I29: 就職内定者（数） | L29: ※2 黄色のセルは入力しないでください | X29: ※2 就職内定者は、国家資格取得等を前提とした内定者の数も加えてご入力ください。
L30: ① | O30: ② | R30: ③ | U30: ④ | X30: 「就職希望者」とは、卒業年度中に就職活動を行い、卒業後速やかに就職することを希望する者をいい、
L31: 学びに関連する分野への就職者 | O31: 学びとは非関連な分野へ就職者 | R31: 東京都内事業所への就職者 | U31: 東京以外の事業所への就職者 | X31: 卒業後の進路として「進学」「自営業」「留年」「資格取得」などを希望する者は含みません。
X32: 就職希望者＞就職内定者数＝①＋②＝③＋④
O33: =I33-L33 -> 0 | U33: =I33-R33 -> 0
O34: =I34-L34 -> 0 | U34: =I34-R34 -> 0 | X34: ③の都内事業所への就職者について
O35: =I35-L35 -> 0 | U35: =I35-R35 -> 0 | Y35: 勤務地が確定していない場合は、採用された事業所が「東京」か「東京以外」かで判断してください。
O36: =I36-L36 -> 0 | U36: =I36-R36 -> 0
O37: =I37-L37 -> 0 | U37: =I37-R37 -> 0
O38: =I38-L38 -> 0 | U38: =I38-R38 -> 0
O39: =I39-L39 -> 0 | U39: =I39-R39 -> 0
O40: =I40-L40 -> 0 | U40: =I40-R40 -> 0
O41: =I41-L41 -> 0 | U41: =I41-R41 -> 0
O42: =I42-L42 -> 0 | U42: =I42-R42 -> 0
O43: =I43-L43 -> 0 | U43: =I43-R43 -> 0
O44: =I44-L44 -> 0 | U44: =I44-R44 -> 0
...

Sheet R8調査票②
A1: 令和8年度 「専門課程」就職状況内定調査票② | X1: ◇青いセル＝入力箇所、黄色いセル＝入力不要箇所
A3: 1 調査コード及び校名 | X3: ◇ご記入いただいた情報は、本調査関連の問い合わせ以外には使用しません。
A5: 2 所属部署 | E5: ='R8調査票①'!E5 -> 0 | N5: 3 担当者氏名 | R5: ='R8調査票①'!R5 -> 0 | X5: ◇貴校の就職希望者の令和８年12月末日現在の就職内定状況について、以下の表内に実数をご記入ください。
A7: 4 ﾒｰﾙｱﾄﾞﾚｽ | E7: ='R8調査票①'!E7 -> 0 | X7: ◇複数の分野にわたる学科を設置されている場合は分野別に、また、修業年限が異なる場合は修業年限別に分かる範囲でご入力ください。
A9: 11 | B9: 工業 | E9: 土木、建築、測量 | M9: 51 | N9: 教育・社会福祉 | R9: 保育、教育
A10: 12 | B10: 工業 | E10: 自動車整備 | M10: 52 | N10: 教育・社会福祉 | R10: 介護福祉
A11: 13 | B11: 工業 | E11: 情報処理・ＩＴ | M11: 53 | N11: 教育・社会福祉 | R11: 社会福祉
A12: 14 | B12: 工業 | E12: 電気・電子、機械 | M12: 54 | N12: 教育・社会福祉 | R12: その他
A13: 15 | B13: 工業 | E13: ゲーム・CG | M13: 61 | N13: 商業実務 | R13: 簿記・ビジネス・ＩＴ
A14: 16 | B14: 工業 | E14: その他 | M14: 62 | N14: 商業実務 | R14: 旅行・ﾎﾃﾙ・観光・ブライダル | X14: ※1
A15: 20 | B15: 工業・農業 | E15: バイオテクノロジー、その他 | M15: 63 | N15: 商業実務 | R15: 医療秘書、医療管理事務 | X15: ◇「ウェディング/ブライダル」系学科を設置する学校でヘアメイクがカリキュラムの中心となる場合は
A16: 31 | B16: 医療 | E16: 看護 | M16: 64 | N16: 商業実務 | R16: その他 | X16: 【44 衛生関係 エステ・メイク・ネイル】を選択
A17: 32 | B17: 医療 | E17: 臨床検査、診療放射線、臨床工学 | M17: 70 | N17: 服飾・家政
A18: 33 | B18: 医療 | E18: 理学療法、作業療法 | M18: 81 | N18: 文化・教養 | R18: 語学 | X18: ◇上記設置校でウェディングプランナー養成がカリキュラムの中心となる場合は
A19: 34 | B19: 医療 | E19: 柔道整復 | M19: 82 | N19: 文化・教養 | R19: 美術、デザイン、写真 | X19: 【62 商業実務関係 旅行・ホテル・観光・ブライダル】を選択
A20: 35 | B20: 医療 | E20: はり・きゅう・あん摩マッサージ 指圧 | M20: 83 | N20: 文化・教養 | R20: 音楽、演劇、映像、放送
A21: 36 | B21: 医療 | E21: 歯科技工、歯科衛生 | M21: 84 | N21: 文化・教養 | R21: 法律行政 | X21: ウェディング／ブライダル系学科については、【89文化・教養 その他】を選択する事例が見受けられますが、
A22: 37 | B22: 医療 | E22: その他 | M22: 85 | N22: 文化・教養 | R22: スポーツ | X22: 実態に即した集計を行うため、学科の教育内容・カリキュラムの中心に応じて、上記の分野コード（44または62）を選択してください。
A23: 41 | B23: 衛生 | E23: 栄養、調理 | M23: 86 | N23: 文化・教養 | R23: 動物
A24: 42 | B24: 衛生 | E24: 製菓 | M24: 88 | N24: 文化・教養 | R24: アニメ、声優、ゲーム
A25: 43 | B25: 衛生 | E25: 理容、美容 | M25: 89 | N25: 文化・教養 | R25: その他
A26: 44 | B26: 衛生 | E26: エステ・メイク・ネイル ※1 | M26: 91 | N26: 文化・教養 | R26: 日本語科
A27: 45 | B27: 衛生 | E27: その他
E28: ドロップダウンリストより選択
A29: 分野コード | D29: 修業年限（年制） | F29: 就職希望者（数） | I29: 就職内定者（数） | L29: ※2 黄色のセルは入力しないでください | X29: ※2 就職内定者は、国家資格取得等を前提とした内定者の数も加えてご入力ください。
L30: ① | O30: ② | R30: ③ | U30: ④ | X30: 「就職希望者」とは、卒業年度中に就職活動を行い、卒業後速やかに就職することを希望する者をいい、
L31: 学びに関連する分野への就職者 | O31: 学びとは非関連な分野へ就職者 | R31: 東京都内事業所への就職者 | U31: 東京以外の事業所への就職者 | X31: 卒業後の進路として「進学」「自営業」「留年」「資格取得」などを希望する者は含みません。
X32: 就職希望者＞就職内定者数＝①＋②＝③＋④
O33: =I33-L33 -> 0 | U33: =I33-R33 -> 0
O34: =I34-L34 -> 0 | U34: =I34-R34 -> 0 | X34: ③の都内事業所への就職者について
O35: =I35-L35 -> 0 | U35: =I35-R35 -> 0 | Y35: 勤務地が確定していない場合は、採用された事業所が「東京」か「東京以外」かで判断してください。
O36: =I36-L36 -> 0 | U36: =I36-R36 -> 0
O37: =I37-L37 -> 0 | U37: =I37-R37 -> 0
O38: =I38-L38 -> 0 | U38: =I38-R38 -> 0
O39: =I39-L39 -> 0 | U39: =I39-R39 -> 0
O40: =I40-L40 -> 0 | U40: =I40-R40 -> 0
O41: =I41-L41 -> 0 | U41: =I41-R41 -> 0
O42: =I42-L42 -> 0 | U42: =I42-R42 -> 0
O43: =I43-L43 -> 0 | U43: =I43-R43 -> 0
O44: =I44-L44 -> 0 | U44: =I44-R44 -> 0
...

Sheet R8調査票③
A1: 令和8年度 「専門課程」就職状況内定調査票③ | X1: ◇青いセル＝入力箇所、黄色いセル＝入力不要箇所
A3: 1 調査コード及び校名 | X3: ◇ご記入いただいた情報は、本調査関連の問い合わせ以外には使用しません。
A5: 2 所属部署 | E5: ='R8調査票①'!E5 -> 0 | N5: 3 担当者氏名 | R5: ='R8調査票①'!R5 -> 0 | X5: ◇貴校の就職希望者の令和９年２月末日現在の就職内定状況について、以下の表内に実数をご記入ください。
A7: 4 ﾒｰﾙｱﾄﾞﾚｽ | E7: ='R8調査票①'!E7 -> 0 | X7: ◇複数の分野にわたる学科を設置されている場合は分野別に、また、修業年限が異なる場合は修業年限別に分かる範囲でご入力ください。
A9: 11 | B9: 工業 | E9: 土木、建築、測量 | M9: 51 | N9: 教育・社会福祉 | R9: 保育、教育
A10: 12 | B10: 工業 | E10: 自動車整備 | M10: 52 | N10: 教育・社会福祉 | R10: 介護福祉
A11: 13 | B11: 工業 | E11: 情報処理・ＩＴ | M11: 53 | N11: 教育・社会福祉 | R11: 社会福祉
A12: 14 | B12: 工業 | E12: 電気・電子、機械 | M12: 54 | N12: 教育・社会福祉 | R12: その他
A13: 15 | B13: 工業 | E13: ゲーム・CG | M13: 61 | N13: 商業実務 | R13: 簿記・ビジネス・ＩＴ
A14: 16 | B14: 工業 | E14: その他 | M14: 62 | N14: 商業実務 | R14: 旅行・ﾎﾃﾙ・観光・ブライダル | X14: ※1
A15: 20 | B15: 工業・農業 | E15: バイオテクノロジー、その他 | M15: 63 | N15: 商業実務 | R15: 医療秘書、医療管理事務 | X15: ◇「ウェディング/ブライダル」系学科を設置する学校でヘアメイクがカリキュラムの中心となる場合は
A16: 31 | B16: 医療 | E16: 看護 | M16: 64 | N16: 商業実務 | R16: その他 | X16: 【44 衛生関係 エステ・メイク・ネイル】を選択
A17: 32 | B17: 医療 | E17: 臨床検査、診療放射線、臨床工学 | M17: 70 | N17: 服飾・家政
A18: 33 | B18: 医療 | E18: 理学療法、作業療法 | M18: 81 | N18: 文化・教養 | R18: 語学 | X18: ◇上記設置校でウェディングプランナー養成がカリキュラムの中心となる場合は
A19: 34 | B19: 医療 | E19: 柔道整復 | M19: 82 | N19: 文化・教養 | R19: 美術、デザイン、写真 | X19: 【62 商業実務関係 旅行・ホテル・観光・ブライダル】を選択
A20: 35 | B20: 医療 | E20: はり・きゅう・あん摩マッサージ 指圧 | M20: 83 | N20: 文化・教養 | R20: 音楽、演劇、映像、放送
A21: 36 | B21: 医療 | E21: 歯科技工、歯科衛生 | M21: 84 | N21: 文化・教養 | R21: 法律行政 | X21: ウェディング／ブライダル系学科については、【89文化・教養 その他】を選択する事例が見受けられますが、
A22: 37 | B22: 医療 | E22: その他 | M22: 85 | N22: 文化・教養 | R22: スポーツ | X22: 実態に即した集計を行うため、学科の教育内容・カリキュラムの中心に応じて、上記の分野コード（44または62）を選択してください。
A23: 41 | B23: 衛生 | E23: 栄養、調理 | M23: 86 | N23: 文化・教養 | R23: 動物
A24: 42 | B24: 衛生 | E24: 製菓 | M24: 88 | N24: 文化・教養 | R24: アニメ、声優、ゲーム
A25: 43 | B25: 衛生 | E25: 理容、美容 | M25: 89 | N25: 文化・教養 | R25: その他
A26: 44 | B26: 衛生 | E26: エステ・メイク・ネイル ※1 | M26: 91 | N26: 文化・教養 | R26: 日本語科
A27: 45 | B27: 衛生 | E27: その他
E28: ドロップダウンリストより選択
A29: 分野コード | D29: 修業年限（年制） | F29: 就職希望者（数） | I29: 就職内定者（数） | L29: ※2 黄色のセルは入力しないでください | X29: ※2 就職内定者は、国家資格取得等を前提とした内定者の数も加えてご入力ください。
L30: ① | O30: ② | R30: ③ | U30: ④ | X30: 「就職希望者」とは、卒業年度中に就職活動を行い、卒業後速やかに就職することを希望する者をいい、
L31: 学びに関連する分野への就職者 | O31: 学びとは非関連な分野へ就職者 | R31: 東京都内事業所への就職者 | U31: 東京以外の事業所への就職者 | X31: 卒業後の進路として「進学」「自営業」「留年」「資格取得」などを希望する者は含みません。
X32: 就職希望者＞就職内定者数＝①＋②＝③＋④
O33: =I33-L33 -> 0 | U33: =I33-R33 -> 0
O34: =I34-L34 -> 0 | U34: =I34-R34 -> 0 | X34: ③の都内事業所への就職者について
O35: =I35-L35 -> 0 | U35: =I35-R35 -> 0 | Y35: 勤務地が確定していない場合は、採用された事業所が「東京」か「東京以外」かで判断してください。
O36: =I36-L36 -> 0 | U36: =I36-R36 -> 0
O37: =I37-L37 -> 0 | U37: =I37-R37 -> 0
O38: =I38-L38 -> 0 | U38: =I38-R38 -> 0
O39: =I39-L39 -> 0 | U39: =I39-R39 -> 0
O40: =I40-L40 -> 0 | U40: =I40-R40 -> 0
O41: =I41-L41 -> 0 | U41: =I41-R41 -> 0
O42: =I42-L42 -> 0 | U42: =I42-R42 -> 0
O43: =I43-L43 -> 0 | U43: =I43-R43 -> 0
O44: =I44-L44 -> 0 | U44: =I44-R44 -> 0
...

Sheet R8アンケート
A1: 令和8年度「専門課程」就職希望者内定状況調査アンケート | W1: ※このまま調査票③と一緒にお送りください。
E2: ※1～3は、調査票記入者とアンケート記入者が違う場合のみ入力してください。
A3: 1 所属部署 | L3: 2 担当者氏名
A5: 3 ﾒｰﾙｱﾄﾞﾚｽ | W5: ◇【1】～【4】の回答は一部を除き回答欄のドロップダウンリストから選んでください。
A7: 【1】貴校の学生が就職活動（企業説明会への参加・企業訪問等）を開始された時期は、 | W7: 【1】回答群
B8: 概ね本年度の何月頃からでしょうか。 | W8: ①4月以降 | Z8: ④7月 | AC8: ⑦10月以降
W9: ②5月 | Z9: ⑤8月 | AC9: ⑧その他
A10: 【1】回答欄→ | W10: ③6月 | Z10: ⑥9月
A12: 【1】で「⑧その他」を選んだ方は、こちらにご入力ください
A14: 【2】貴校の学生は、1人あたり平均何社程度の企業を訪問されましたか。 | W14: 【2】回答群
W15: ①1～3社程度 | AA15: ④10～19社程度
A16: 【2】回答欄→ | W16: ②4～6社程度 | AA16: ⑤20社以上
W17: ③7～9社程度 | AA17: ⑥その他
A18: 【2】で「⑥その他」を選んだ方は、こちらにご入力ください
A20: 【3】貴校は、就職指導の体制の中で、企業からの求人票以外に、各地域のハローワーク等と | W20: 【3】回答群
B21: 連携を取り合ったり利用したりしていますか。 | W21: ①よく利用している | AF21: ③まったく活用していない
W22: ②ときおり概況を調べるために利用する程度 | AF22: ④その他
A23: 【3】回答欄→
A25: 【3】で「④その他」を選んだ方は、こちらにご入力ください
A27: 【4】貴校での、インターネットの就職情報サイトの利用状況について。 | W27: 【4】回答群
W28: ①積極的に利用を薦めている | AE28: ③利用は薦めていない
A29: 【4】回答欄→ | W29: ②学生個人の判断に任せている | AE29: ④学校として把握していない
A31: 【4】で「③薦めていない」を選んだ学校は、その理由を教えてください
A34: 【5】その他本年度（近年として捉えても可）の就職状況について、貴校で感じられたことや、その対策等が
A35: ございましたら、ご自由にお書きください。
W40: アンケートの返送・問合せ先 ☞ | AD40: toukei@tsk.or.jp
W41: 公益社団法人東京都専修学校各種学校協会
W42: 〒151-0053 渋谷区代々木1-58-1 石山ビル６階
W43: TEL(03)3378-9601 FAX(03)3378-9625
W44: 担当：事業推進課

Sheet Sheet1
